BEGIN:VCALENDAR
VERSION:2.0
PRODID:-//Beverwijk Duurzaam - ECPv6.8.1//NONSGML v1.0//EN
CALSCALE:GREGORIAN
METHOD:PUBLISH
X-ORIGINAL-URL:https://www.beverwijkduurzaam.nl
X-WR-CALDESC:Evenementen voor Beverwijk Duurzaam
REFRESH-INTERVAL;VALUE=DURATION:PT1H
X-Robots-Tag:noindex
X-PUBLISHED-TTL:PT1H
BEGIN:VTIMEZONE
TZID:Europe/Amsterdam
BEGIN:DAYLIGHT
TZOFFSETFROM:+0100
TZOFFSETTO:+0200
TZNAME:CEST
DTSTART:20160327T010000
END:DAYLIGHT
BEGIN:STANDARD
TZOFFSETFROM:+0200
TZOFFSETTO:+0100
TZNAME:CET
DTSTART:20161030T010000
END:STANDARD
END:VTIMEZONE
BEGIN:VEVENT
DTSTART;VALUE=DATE:20160316
DTEND;VALUE=DATE:20160318
DTSTAMP:20260425T191633
CREATED:20160306T190842Z
LAST-MODIFIED:20160306T191348Z
UID:264-1458090000-1458176399@www.beverwijkduurzaam.nl
SUMMARY:Nationale boomfeestdag
DESCRIPTION:Sinds 1957 planten ruim 100.000 kinderen van basisscholen op deze dag een boom langs straten en pleinen\, in parken en bossen in Nederland. Dit jaar gaat er veel aandacht uit naar bomen op schoolpleinen. Scholen kunnen hierover bij het NME-centrum in Beverwijk meer informatie verkrijgen.
URL:https://www.beverwijkduurzaam.nl/evenement/nationale-boomfeestdag/
END:VEVENT
BEGIN:VEVENT
DTSTART;TZID=Europe/Amsterdam:20160314T210000
DTEND;TZID=Europe/Amsterdam:20160314T230000
DTSTAMP:20260425T191633
CREATED:20160304T230241Z
LAST-MODIFIED:20160314T120331Z
UID:100-1457989200-1457996400@www.beverwijkduurzaam.nl
SUMMARY:Energiebesparing in de wijk
DESCRIPTION:Op 14 maart is er in het gebouwtje van speeltuin Kindervreugd ( Huiderlaan 7) een informatieavond over het wijkproject Energiebesparen. In de afgelopen weken zijn er – op verzoek van de bewoners-  in de wijk rond de Bankenlaan infra-rood foto’s gemaakt van de gevels. Zo kan je zien waar er energie uit je huis weglekt. Welkom vanaf 19.30 uur. \nOp deze avond kom je te weten hoe de gemeente Beverwijk je kan ondersteunen bij maatregelen voor energiebesparing. Ook is het Duurzaam bouwloket aanwezig. Zij kunnen adviseren m.b.t. de uitvoering van de werkzaamheden.\nBeverwijk Duurzaam zal er ook zijn om dit project waar mogelijk te ondersteunen. \nAanmelden  is nodig. Dat kan via dit formulier.\n \n\n \nMeer informatie over isolatiemaatregelen\nTijdens de bijeenkomsten zijn diverse lokale ondernemers aanwezig\, die bezoekers meer kunnen vertellen over isolatiemaatregelen. Daarmee is er ook de mogelijkheid om\, geheel vrijblijvend\, offertes op te vragen. Aanwezigen kunnen ook terecht bij het Duurzaam Bouwloket voor onafhankelijke informatie over het verduurzamen van de eigen woning. De bijeenkomsten worden georganiseerd door Omgevingsdienst IJmond. \nWijkaanpak een succes\nAfgelopen weken konden inwoners uit twee wijken in Beverwijk en Heemskerk in aanmerking komen voor een infraroodfoto van de woning. Via een infraroodfoto wordt zichtbaar waar een woning energie en warmte verliest en of het isoleren van een woning zinvol is. Ruim 100 huiseigenaren maakten gebruik van dit aanbod. Daarmee is deze aanpak erg succesvol. Afgelopen weken en aankomende weken worden de foto’s gemaakt. \nVerbetering comfort en verlaging kosten\nHet isoleren van een woning zorgt ervoor dat het wooncomfort van een woning verbetert. Er ontsnapt minder warmte\, waardoor er ook minder gestookt hoeft te worden. Omdat het energieverbruik daalt\, dalen ook de jaarlijkse energielasten en dat is weer merkbaar in de portemonnee. Isoleren is dankzij beschikbare subsidie in de gemeenten Beverwijk\, Heemskerk\, Uitgeest en Velsen nu extra interessant. Particuliere woningeigenaren kunnen tot maximaal 1.500 euro subsidie aanvragen voor dak-\, gevel- en vloerisolatie. De subsidieregeling\, mogelijk gemaakt door de Provincie Noord-Holland biedt ook subsidie voor isolatieglas. Meer informatie over de subsidie is te vinden op www.wijwonenwijzer.nl. \nKijk voor tips en advies over het verduurzamen van een woning ook op www.duurzaambouwloket.nl.
URL:https://www.beverwijkduurzaam.nl/evenement/energiebesparing-in-de-wijk/
LOCATION:Speeltuingebouw Kindervreugd\, Huiderlaan 7\, Beverwijk
END:VEVENT
BEGIN:VEVENT
DTSTART;VALUE=DATE:20160314
DTEND;VALUE=DATE:20160316
DTSTAMP:20260425T191633
CREATED:20160306T193040Z
LAST-MODIFIED:20160306T193040Z
UID:273-1457917200-1458003599@www.beverwijkduurzaam.nl
SUMMARY:Aanmelden voor campagne afval scheiden vóór 15 maart
DESCRIPTION:Aanmelden voor 100-100-100 kan nog tot 15 maart. \nLees meer over deze campagen om met 100 mensen in Beverwijk 100 dagen lang 100% afval te scheiden.
URL:https://www.beverwijkduurzaam.nl/evenement/aanmelden-voor-campagne-afval-scheiden-voor-15-maart/
END:VEVENT
BEGIN:VEVENT
DTSTART;TZID=Europe/Amsterdam:20160313T113000
DTEND;TZID=Europe/Amsterdam:20160313T170000
DTSTAMP:20260425T191633
CREATED:20160309T183749Z
LAST-MODIFIED:20160309T184423Z
UID:310-1457868600-1457888400@www.beverwijkduurzaam.nl
SUMMARY:Lentedag PWN hof Kijk Uit Castricum
DESCRIPTION:In samenwerking met PWN organiseert de Lionsclub Castricum een Lentedag. Er zijn diverse activiteiten zoals pannenkoeken bakken \, knutselen met natuurlijke materialen\, hout bewerken enz. Deze familiedag vindt plaats bij de Hof van Kijk Uit van 10.30 tot 16 uur\, te bereiken vanaf het parkeerterrein aan de Geversweg.
URL:https://www.beverwijkduurzaam.nl/evenement/lentedag-pwn/
LOCATION:Hof van Kijk uit Castricum\, Nederland
END:VEVENT
BEGIN:VEVENT
DTSTART;TZID=Europe/Amsterdam:20160313T100000
DTEND;TZID=Europe/Amsterdam:20160313T100000
DTSTAMP:20260425T191633
CREATED:20160305T090406Z
LAST-MODIFIED:20160305T102432Z
UID:182-1457863200-1457863200@www.beverwijkduurzaam.nl
SUMMARY:IVN-Excursie landgoed Marquette Heemskerk
DESCRIPTION:Op zondag 13 maart kun je rond kasteel Maquette in Heemskerk wandelen met het IVN.\nJe krijgt van alles te horen over de natuur en cultuurhistorie van dit prachtige kasteel en landgoed. De excursie duurt van 10 tot 12 uur en eindigt bij de Heemshof\, waar koffie/thee met gebak klaar staat.\nDeelname kost €4\,– en voor kinderen is dat €2\,–\nAanmelden bij: excursie-ivnmk@gmail.com \nWil je weten wat het IVN (Instituut voor Natuureducatie en Duurzaamheid) bij ons in de buurt doet? Bekijk de website
URL:https://www.beverwijkduurzaam.nl/evenement/natuur-en-cultuurhistorische-wandeling-ivn/
LOCATION:Start bij Boerderij Heemshof\, Oosterweg 2c\, Heemskerk\, Nederland
ORGANIZER;CN="IVN Midden Kennemerland":MAILTO:excursie-ivnmk@gmail.com
END:VEVENT
END:VCALENDAR