BEGIN:VCALENDAR
VERSION:2.0
PRODID:-//Beverwijk Duurzaam - ECPv6.8.1//NONSGML v1.0//EN
CALSCALE:GREGORIAN
METHOD:PUBLISH
X-WR-CALNAME:Beverwijk Duurzaam
X-ORIGINAL-URL:https://www.beverwijkduurzaam.nl
X-WR-CALDESC:Evenementen voor Beverwijk Duurzaam
REFRESH-INTERVAL;VALUE=DURATION:PT1H
X-Robots-Tag:noindex
X-PUBLISHED-TTL:PT1H
BEGIN:VTIMEZONE
TZID:Europe/Amsterdam
BEGIN:DAYLIGHT
TZOFFSETFROM:+0100
TZOFFSETTO:+0200
TZNAME:CEST
DTSTART:20200329T010000
END:DAYLIGHT
BEGIN:STANDARD
TZOFFSETFROM:+0200
TZOFFSETTO:+0100
TZNAME:CET
DTSTART:20201025T010000
END:STANDARD
END:VTIMEZONE
BEGIN:VEVENT
DTSTART;VALUE=DATE:20200919
DTEND;VALUE=DATE:20200920
DTSTAMP:20260424T020402
CREATED:20200914T071434Z
LAST-MODIFIED:20200914T071604Z
UID:2975-1600473600-1600559999@www.beverwijkduurzaam.nl
SUMMARY:World cleanup day 2020
DESCRIPTION:Op zaterdag 19 september is het weer zover: World Cleanup Day.\nOp deze grootste wereldwijde opruimactie van het jaar gaan mensen in Nederland samen met ruim 180 landen de planeet een grote schoonmaakbeurt geven. Dit jaar wordt World Cleanup Day in Nederland georganiseerd door Plastic Soup Foundation en NederlandSchoon.\nLees hier meer over deze samenwerking tegen zwerfafval \nAls je je niet kunt aansluiten bij een opruimactie\, nodigt Beverwijk Duurzaam je uit om je eigen actie op te zetten. \nBeverwijk Duurzaam besteedt dit najaar veel aandacht aan de plasticvervuiling in het water en zet bij haar komende activiteiten een donatiebox voor de Plastic Soup Foundation neer. \nOok kun je natuurlijk gewoon proberen om het afval te voorkomen. Misschien nog wel de beste oplossing voor het probleem.\nDus jouw actie kan zijn : Zoveel mogelijk boodschappen doen zonder plastic verpakkingen. \n  \n 
URL:https://www.beverwijkduurzaam.nl/evenement/world-cleanup-day-2020/
END:VEVENT
END:VCALENDAR