BEGIN:VCALENDAR
VERSION:2.0
PRODID:-//Beverwijk Duurzaam - ECPv6.8.1//NONSGML v1.0//EN
CALSCALE:GREGORIAN
METHOD:PUBLISH
X-WR-CALNAME:Beverwijk Duurzaam
X-ORIGINAL-URL:https://www.beverwijkduurzaam.nl
X-WR-CALDESC:Evenementen voor Beverwijk Duurzaam
REFRESH-INTERVAL;VALUE=DURATION:PT1H
X-Robots-Tag:noindex
X-PUBLISHED-TTL:PT1H
BEGIN:VTIMEZONE
TZID:Europe/Amsterdam
BEGIN:DAYLIGHT
TZOFFSETFROM:+0100
TZOFFSETTO:+0200
TZNAME:CEST
DTSTART:20200329T010000
END:DAYLIGHT
BEGIN:STANDARD
TZOFFSETFROM:+0200
TZOFFSETTO:+0100
TZNAME:CET
DTSTART:20201025T010000
END:STANDARD
END:VTIMEZONE
BEGIN:VEVENT
DTSTART;TZID=Europe/Amsterdam:20200418T140000
DTEND;TZID=Europe/Amsterdam:20200418T153000
DTSTAMP:20260423T190748
CREATED:20200208T092823Z
LAST-MODIFIED:20200420T144650Z
UID:2656-1587218400-1587223800@www.beverwijkduurzaam.nl
SUMMARY:Energiecafé in de bibliotheek van Beverwijk- AFGELAST
DESCRIPTION:In de bibliotheek van IJmond-Noord aan het Kerkplein in Beverwijk \nhoudt EcoBeverwijk\, de nieuwe energiecoöperatie een inloopspreekuur. \nKom gezellig aan tafel in gesprek over het verduurzamen van je huis en energie besparen. we zijn er van 14.00 tot 15.30.
URL:https://www.beverwijkduurzaam.nl/evenement/energiecafe-in-de-bibliotheek-van-beverwijk-2/
LOCATION:Bibliotheek IJmond Noord\, Beverwijk\, Kerkplein\, Beverwijk
END:VEVENT
END:VCALENDAR